Workbook

Sheet So gehts
A1: Dienstplan fürs Fitnessstudio – Vorlage
A3: 1. Blatt „Trainer“: Namen eintragen.
A4: 2. Blatt „Schichten“: Zeilen pro Tag und Schicht anlegen, Trainer aus der Liste wählen.
A5: 3. Blatt „Kurse“: genauso für Kurse. Kursstunden zählen getrennt.
A6: 4. Gelb = noch kein Trainer eingetragen.
A7: 5. Blatt „Stunden“ rechnet Studio- und Kursstunden pro Trainer.
A9: Tipp: Für eine neue Woche das Blatt kopieren und die Daten anpassen.
A11: Vorlage von Studioplan, studio-planer.com – frei nutzbar.

Sheet Trainer
A1: Trainer | B1: Minijob (ja/nein) | C1: Notiz
A2: Trainer 1
A3: Trainer 2
A4: Trainer 3
A5: Trainer 4
A6: Trainer 5
A7: Trainer 6

Sheet Schichten
A1: Tag | B1: Datum | C1: Schicht | D1: Von | E1: Bis | F1: Stunden | G1: Trainer
A2: Mo | B2: 46027 | C2: Früh | D2: 0.29166667 | E2: 0.58333333 | F2: =IF(OR(D2="",E2=""),"",ROUND((E2-D2)*24,2))
A3: Mo | B3: 46027 | C3: Spät | D3: 0.58333333 | E3: 0.91666667 | F3: =IF(OR(D3="",E3=""),"",ROUND((E3-D3)*24,2))
A4: Di | B4: 46028 | C4: Früh | D4: 0.29166667 | E4: 0.58333333 | F4: =IF(OR(D4="",E4=""),"",ROUND((E4-D4)*24,2))
A5: Di | B5: 46028 | C5: Spät | D5: 0.58333333 | E5: 0.91666667 | F5: =IF(OR(D5="",E5=""),"",ROUND((E5-D5)*24,2))
A6: Mi | B6: 46029 | C6: Früh | D6: 0.29166667 | E6: 0.58333333 | F6: =IF(OR(D6="",E6=""),"",ROUND((E6-D6)*24,2))
A7: Mi | B7: 46029 | C7: Spät | D7: 0.58333333 | E7: 0.91666667 | F7: =IF(OR(D7="",E7=""),"",ROUND((E7-D7)*24,2))
A8: Do | B8: 46030 | C8: Früh | D8: 0.29166667 | E8: 0.58333333 | F8: =IF(OR(D8="",E8=""),"",ROUND((E8-D8)*24,2))
A9: Do | B9: 46030 | C9: Spät | D9: 0.58333333 | E9: 0.91666667 | F9: =IF(OR(D9="",E9=""),"",ROUND((E9-D9)*24,2))
A10: Fr | B10: 46031 | C10: Früh | D10: 0.29166667 | E10: 0.58333333 | F10: =IF(OR(D10="",E10=""),"",ROUND((E10-D10)*24,2))
A11: Fr | B11: 46031 | C11: Spät | D11: 0.58333333 | E11: 0.91666667 | F11: =IF(OR(D11="",E11=""),"",ROUND((E11-D11)*24,2))
A12: Sa | B12: 46032 | C12: Tag | D12: 0.375 | E12: 0.70833333 | F12: =IF(OR(D12="",E12=""),"",ROUND((E12-D12)*24,2))
A13: So | B13: 46033 | C13: Tag | D13: 0.375 | E13: 0.70833333 | F13: =IF(OR(D13="",E13=""),"",ROUND((E13-D13)*24,2))
F14: =IF(OR(D14="",E14=""),"",ROUND((E14-D14)*24,2))
F15: =IF(OR(D15="",E15=""),"",ROUND((E15-D15)*24,2))
F16: =IF(OR(D16="",E16=""),"",ROUND((E16-D16)*24,2))
F17: =IF(OR(D17="",E17=""),"",ROUND((E17-D17)*24,2))
F18: =IF(OR(D18="",E18=""),"",ROUND((E18-D18)*24,2))
F19: =IF(OR(D19="",E19=""),"",ROUND((E19-D19)*24,2))
F20: =IF(OR(D20="",E20=""),"",ROUND((E20-D20)*24,2))
F21: =IF(OR(D21="",E21=""),"",ROUND((E21-D21)*24,2))
F22: =IF(OR(D22="",E22=""),"",ROUND((E22-D22)*24,2))
F23: =IF(OR(D23="",E23=""),"",ROUND((E23-D23)*24,2))
F24: =IF(OR(D24="",E24=""),"",ROUND((E24-D24)*24,2))
F25: =IF(OR(D25="",E25=""),"",ROUND((E25-D25)*24,2))
... F119: =IF(OR(D119="",E119=""),"",ROUND((E119-D119)*24,2))

Sheet Kurse
A1: Tag | B1: Datum | C1: Kurs | D1: Von | E1: Bis | F1: Stunden | G1: Trainer
A2: Mo | B2: 46027 | C2: Rücken | D2: 0.75 | E2: 0.79166667 | F2: =IF(OR(D2="",E2=""),"",ROUND((E2-D2)*24,2))
A3: Mi | B3: 46029 | C3: Zirkel | D3: 0.72916667 | E3: 0.77083333 | F3: =IF(OR(D3="",E3=""),"",ROUND((E3-D3)*24,2))
A4: Do | B4: 46030 | C4: Rücken | D4: 0.75 | E4: 0.79166667 | F4: =IF(OR(D4="",E4=""),"",ROUND((E4-D4)*24,2))
F5: =IF(OR(D5="",E5=""),"",ROUND((E5-D5)*24,2))
F6: =IF(OR(D6="",E6=""),"",ROUND((E6-D6)*24,2))
F7: =IF(OR(D7="",E7=""),"",ROUND((E7-D7)*24,2))
F8: =IF(OR(D8="",E8=""),"",ROUND((E8-D8)*24,2))
F9: =IF(OR(D9="",E9=""),"",ROUND((E9-D9)*24,2))
F10: =IF(OR(D10="",E10=""),"",ROUND((E10-D10)*24,2))
F11: =IF(OR(D11="",E11=""),"",ROUND((E11-D11)*24,2))
F12: =IF(OR(D12="",E12=""),"",ROUND((E12-D12)*24,2))
F13: =IF(OR(D13="",E13=""),"",ROUND((E13-D13)*24,2))
F14: =IF(OR(D14="",E14=""),"",ROUND((E14-D14)*24,2))
F15: =IF(OR(D15="",E15=""),"",ROUND((E15-D15)*24,2))
F16: =IF(OR(D16="",E16=""),"",ROUND((E16-D16)*24,2))
... F119: =IF(OR(D119="",E119=""),"",ROUND((E119-D119)*24,2))

Sheet Stunden
A1: Trainer | B1: Studio-Stunden | C1: Kurs-Stunden | D1: Gesamt | E1: Offene Schichten
A2: =IF(Trainer!A2="","",Trainer!A2) | B2: =IF(A2="","",SUMIF(Schichten!$G:$G,A2,Schichten!$F:$F)) | C2: =IF(A2="","",SUMIF(Kurse!$G:$G,A2,Kurse!$F:$F)) | D2: =IF(A2="","",B2+C2) | E2: =COUNTIFS(Schichten!B:B,"<>",Schichten!G:G,"")+COUNTIFS(Kurse!B:B,"<>",Kurse!G:G,"")
A3: =IF(Trainer!A3="","",Trainer!A3) | B3: =IF(A3="","",SUMIF(Schichten!$G:$G,A3,Schichten!$F:$F)) | C3: =IF(A3="","",SUMIF(Kurse!$G:$G,A3,Kurse!$F:$F)) | D3: =IF(A3="","",B3+C3)
A4: =IF(Trainer!A4="","",Trainer!A4) | B4: =IF(A4="","",SUMIF(Schichten!$G:$G,A4,Schichten!$F:$F)) | C4: =IF(A4="","",SUMIF(Kurse!$G:$G,A4,Kurse!$F:$F)) | D4: =IF(A4="","",B4+C4)
A5: =IF(Trainer!A5="","",Trainer!A5) | B5: =IF(A5="","",SUMIF(Schichten!$G:$G,A5,Schichten!$F:$F)) | C5: =IF(A5="","",SUMIF(Kurse!$G:$G,A5,Kurse!$F:$F)) | D5: =IF(A5="","",B5+C5)
A6: =IF(Trainer!A6="","",Trainer!A6) | B6: =IF(A6="","",SUMIF(Schichten!$G:$G,A6,Schichten!$F:$F)) | C6: =IF(A6="","",SUMIF(Kurse!$G:$G,A6,Kurse!$F:$F)) | D6: =IF(A6="","",B6+C6)
A7: =IF(Trainer!A7="","",Trainer!A7) | B7: =IF(A7="","",SUMIF(Schichten!$G:$G,A7,Schichten!$F:$F)) | C7: =IF(A7="","",SUMIF(Kurse!$G:$G,A7,Kurse!$F:$F)) | D7: =IF(A7="","",B7+C7)
A8: =IF(Trainer!A8="","",Trainer!A8) | B8: =IF(A8="","",SUMIF(Schichten!$G:$G,A8,Schichten!$F:$F)) | C8: =IF(A8="","",SUMIF(Kurse!$G:$G,A8,Kurse!$F:$F)) | D8: =IF(A8="","",B8+C8)
A9: =IF(Trainer!A9="","",Trainer!A9) | B9: =IF(A9="","",SUMIF(Schichten!$G:$G,A9,Schichten!$F:$F)) | C9: =IF(A9="","",SUMIF(Kurse!$G:$G,A9,Kurse!$F:$F)) | D9: =IF(A9="","",B9+C9)
A10: =IF(Trainer!A10="","",Trainer!A10) | B10: =IF(A10="","",SUMIF(Schichten!$G:$G,A10,Schichten!$F:$F)) | C10: =IF(A10="","",SUMIF(Kurse!$G:$G,A10,Kurse!$F:$F)) | D10: =IF(A10="","",B10+C10)
A11: =IF(Trainer!A11="","",Trainer!A11) | B11: =IF(A11="","",SUMIF(Schichten!$G:$G,A11,Schichten!$F:$F)) | C11: =IF(A11="","",SUMIF(Kurse!$G:$G,A11,Kurse!$F:$F)) | D11: =IF(A11="","",B11+C11)
A12: =IF(Trainer!A12="","",Trainer!A12) | B12: =IF(A12="","",SUMIF(Schichten!$G:$G,A12,Schichten!$F:$F)) | C12: =IF(A12="","",SUMIF(Kurse!$G:$G,A12,Kurse!$F:$F)) | D12: =IF(A12="","",B12+C12)
A13: =IF(Trainer!A13="","",Trainer!A13) | B13: =IF(A13="","",SUMIF(Schichten!$G:$G,A13,Schichten!$F:$F)) | C13: =IF(A13="","",SUMIF(Kurse!$G:$G,A13,Kurse!$F:$F)) | D13: =IF(A13="","",B13+C13)
A14: =IF(Trainer!A14="","",Trainer!A14) | B14: =IF(A14="","",SUMIF(Schichten!$G:$G,A14,Schichten!$F:$F)) | C14: =IF(A14="","",SUMIF(Kurse!$G:$G,A14,Kurse!$F:$F)) | D14: =IF(A14="","",B14+C14)
... A21: =IF(Trainer!A21="","",Trainer!A21) | B21: =IF(A21="","",SUMIF(Schichten!$G:$G,A21,Schichten!$F:$F)) | C21: =IF(A21="","",SUMIF(Kurse!$G:$G,A21,Kurse!$F:$F)) | D21: =IF(A21="","",B21+C21)
